Workbook

Sheet Prix
A1: Prix ACCESS et LOCATIF+
A3: Noms | B3: Plans | C3: PRIX Inf 400 m | D3: PRIX Sup 400 m | E3: PRIX HE/HA | F3: PV Fondations 90 | G3: PV sismique3 + Etude BA | H3: PV plafonds gge | I3: PV WC carrelage sdb wc faience | J3: Acces VRD 10 ml en direct | K3: Cuisine
A4: Epure | B4: 2 CHAG | C4: 110000 | D4: 107540 | E4: 80080 | F4: 3550 | G4: 450 | H4: 690 | I4: 1440 | J4: 5000 | K4: 1315
A5: Zénéa | B5: 2CH design | C5: 112200 | D5: 108930 | E5: 82210 | F5: 3470 | G5: 490 | H5: X | I5: 1640 | J5: 5200 | K5: 2602
A6: First | B6: 2CHSG | C6: 101060 | D6: 98780 | E6: 72480 | F6: 3070 | G6: 490 | H6: X | I6: 1350 | J6: 4950 | K6: 1315
A8: Minismart | B8: 3 CH SG | C8: 109890 | D8: 106990 | E8: 78270 | F8: 3310 | G8: 490 | H8: X | I8: 1640 | J8: 5000 | K8: 2388
A9: Essentiel | B9: 3 CH+ AG | C9: 123810 | D9: 120710 | E9: 89400 | F9: 3880 | G9: 380 | H9: 940 | I9: 1850 | J9: 5060 | K9: 1315
A10: Prima | B10: 3CHAG alexia | C10: 129620 | D10: 126110 | E10: 93320 | F10: 3950 | G10: 490 | H10: 730 | I10: 1530 | J10: 5230 | K10: 1667
A11: Myhome | B11: 3CHAG L | C11: 139230 | D11: 133880 | E11: 101870 | F11: 4200 | G11: 450 | H11: 790 | I11: 1760 | J11: 5500 | K11: 3954
A13: Invest | B13: 3CHAG 77 PMR | C13: 118910 | D13: 116000 | E13: 85330 | F13: 3630 | G13: 380 | H13: 940 | I13: 1760 | J13: 5100 | K13: 1810
A14: Lodji | B14: 3CHAG 95 PMR | C14: 131410 | D14: 128400 | E14: 95620 | F14: 4040 | G14: 370 | H14: 830 | I14: 1770 | J14: 5330
A15: Modulo | B15: 3CHSG 95 PMR | C15: 120540 | D15: 116510 | E15: 86350 | F15: 3550 | G15: 490 | H15: X | I15: 1770 | J15: 5050
A16: Cocoon | B16: 3CHAG 102 PMR | C16: 140090 | D16: 136920 | E16: 98670 | F16: 4280 | G16: 370 | H16: 790 | I16: 1770 | J16: 5400
A18: Tiny MAG | B18: ZIRCON | C18: 90710 | D18: X | E18: X | F18: 2990 | G18: 1270 | H18: 1760 | I18: 1590 | J18: 5000 | K18: 3015 | L18: 1988
H19: VS + R10
A20: Urbanéa | B20: Calcedoine | C20: 125380 | E20: 83960 | F20: 2750 | G20: 720 | H20: X | I20: 2310 | J20: 4900
A21: Nova | B21: Etag 85 3CHSG | C21: 114520 | F21: 2420 | G21: 720 | H21: X | I21: 1520
A22: Linéa | B22: Etag 90 3CHSG | C22: 119610 | F22: 2500 | G22: 720 | H22: X | I22: 1520
A24: Kozi | B24: 4CHSG | C24: 122050 | D24: 119550 | E24: 86250 | F24: 3630 | G24: 490 | H24: X | I24: 1850 | J24: 5300
A25: Viva | B25: 4CHAG | C25: 139970 | D25: 136730 | E25: 92240 | F25: 3950 | G25: 470 | I25: 2430 | J25: 5550

Sheet Prestations
A1: PRESTATIONS COMPRISES
A2: Noms | B2: Surf. Habit. En m2 | C2: Surf Annexes En m2 | D2: Altitude | E2: Nbre CH | F2: Cellier | G2: Garage | I2: VS UP19 | J2: VS UP23 | K2: VS COFFR | L2: TMS 80 | N2: MUR R1 | O2: MUR R 1,4 | P2: MUR AGGLOS | R2: 120+13 | S2: 100+10 | U2: BAIES PVC | V2: BAIES ALU | X2: VR MONO SOMFY | Y2: VR MONO MANU | AA2: WC Suspendu | AB2: Douche Ital | AC2: Receveur | AE2: TRINEO | AF2: Bi SPLIT | AG2: Radians Ch | AH2: Seche S | AI2: Alim R+SS
A3: Epure | B3: 71 | C3: 16 | D3: <400 | E3: 2 | F3: 1 | G3: 1
D4: <800
A5: Zénéa | B5: 69 | C5: 0 | D5: <400 | E5: 2 | F5: 1 | G5: 0
D6: <800
A7: First | B7: 73 | C7: 0 | D7: <400 | E7: 2 | F7: 1 | G7: 0
D8: <800
A10: Minismart | B10: 85 | C10: 0 | D10: <400 | E10: 3 | F10: 1 | G10: 0
D11: <800
A12: Essentiel | B12: 85 | C12: 22 | D12: <400 | E12: 3 | F12: 0 | G12: 1
D13: <800
A14: Prima | B14: 84 | C14: 17 | D14: <400 | E14: 3 | F14: 1 | G14: 1
D15: <800
A16: Myhome | B16: 99 | C16: 18 | D16: <400 | E16: 3 | F16: 1 | G16: 1
D17: <800
A19: Tiny MAG | B19: 49 | C19: 22 | D19: RT12 | E19: 1 | F19: 0 | G19: 1
A21: Urbanéa | B21: 83 | C21: 15 | D21: <400 | E21: 3 | F21: 1 | G21: 1
D22: <800
A23: Nova | B23: 85 | C23: 0 | D23: <400 | E23: 3 | F23: 1 | G23: 0
D24: <800
A25: Linéa | B25: 90 | C25: 0 | D25: <400 | E25: 3 | F25: 1 | G25: 0
D26: <800
A28: Kozi | B28: 99 | C28: 0 | D28: <400 | E28: 4 | F28: 1 | G28: 0
D29: <800
A30: Viva | B30: 103 | C30: 17 | D30: <400 | E30: 4 | F30: 1 | G30: 1
D31: <800
A32: GAMME LOCATIF+
A33: Invest | B33: 77 | C33: 22 | D33: <400 | E33: 3 | G33: 1
D34: <800
A35: Lodji | B35: 96 | C35: 19 | D35: <400 | E35: 3 | F35: 1 | G35: 1
D36: <800
A37: Modulo | B37: 96 | C37: 0 | D37: <400 | E37: 3 | F37: 1 | G37: 0
D38: <800
A39: Cocoon | B39: 102 | C39: 18 | D39: <400 | E39: 3 | F39: 1 | G39: 1
D40: <800

Sheet Tableau clients
A1: GAMME ACCESS
A2: Noms | B2: Surf. Habit. En m2 | C2: Surf Annexes En m2 | D2: Surf. Utile En m2 | E2: Prix à partir de: | F2: 🛏️ | G2: 🛒 | H2: 🚗 | J2: PV Zones Argiles | K2: PV Zones sismique 3 | L2: PV Altitude <400 m | M2: Second œuvre | N2: Plafonds garage | O2: Pack carrelage/ faience sdb Wc | P2: Pack Carrelage, zone jour | Q2: Pack Carrelage zone nuit | R2: Cuisine en direct | S2: VRD (10ml) en direct
A3: 2 chambres
A4: Epure | B4: 71 | C4: 16 | D4: =C4+B4 -> 87 | E4: =Prix!E4 -> 80080 | F4: 2 | G4: 1 | H4: 1 | J4: =Prix!F4 -> 3550 | K4: =Prix!G4 -> 450 | L4: =Prix!C4-Prix!D4 -> 2460 | M4: =Prix!D4-Prix!E4 -> 27460 | N4: =Prix!H4 -> 690 | O4: =Prix!I4 -> 1440 | P4: 4330 | Q4: 2270 | S4: =Prix!J4 -> 5000
A5: Zénéa | B5: 69 | C5: X | D5: =B5 -> 69 | E5: =Prix!E5 -> 82210 | F5: 2 | G5: 1 | H5: 0 | J5: =Prix!F5 -> 3470 | K5: =Prix!G5 -> 490 | L5: =Prix!C5-Prix!D5 -> 3270 | M5: =Prix!D5-Prix!E5 -> 26720 | N5: X | O5: =Prix!I5 -> 1640 | P5: 4120 | Q5: 2370 | S5: =Prix!J5 -> 5200
A6: First | B6: 73 | C6: X | D6: =B6 -> 73 | E6: =Prix!E6 -> 72480 | F6: 2 | G6: 1 | H6: 0 | J6: =Prix!F6 -> 3070 | K6: =Prix!G6 -> 490 | L6: =Prix!C6-Prix!D6 -> 2280 | M6: =Prix!D6-Prix!E6 -> 26300 | N6: X | O6: =Prix!I6 -> 1350 | P6: 4740 | Q6: 2270 | S6: =Prix!J6 -> 4950
A7: 3 chambres
A8: Minismart | B8: 85 | C8: X | D8: =B8 -> 85 | E8: =Prix!E8 -> 78270 | F8: 3 | G8: 1 | H8: 0 | J8: =Prix!F8 -> 3310 | K8: =Prix!G8 -> 490 | L8: =Prix!C8-Prix!D8 -> 2900 | M8: =Prix!D8-Prix!E8 -> 28720 | N8: X | O8: =Prix!I8 -> 1640 | P8: 4750 | Q8: 3510 | S8: =Prix!J8 -> 5000
A9: Essentiel | B9: 85 | C9: 22 | D9: =C9+B9 -> 107 | E9: =Prix!E9 -> 89400 | F9: 3 | G9: 0 | H9: 1 | J9: =Prix!F9 -> 3880 | K9: =Prix!G9 -> 380 | L9: =Prix!C9-Prix!D9 -> 3100 | M9: =Prix!D9-Prix!E9 -> 31310 | N9: =Prix!H9 -> 940 | O9: =Prix!I9 -> 1850 | P9: 4750 | Q9: 3200 | S9: =Prix!J9 -> 5060
A10: Prima | B10: 84 | C10: 17 | D10: =C10+B10 -> 101 | E10: =Prix!E10 -> 93320 | F10: 3 | G10: 1 | H10: 1 | J10: =Prix!F10 -> 3950 | K10: =Prix!G10 -> 490 | L10: =Prix!C10-Prix!D10 -> 3510 | M10: =Prix!D10-Prix!E10 -> 32790 | N10: =Prix!H10 -> 730 | O10: =Prix!I10 -> 1530 | P10: 4950 | Q10: 3300 | S10: =Prix!J10 -> 5230
A11: Myhome | B11: 99 | C11: 18 | D11: =C11+B11 -> 117 | E11: =Prix!E11 -> 101870 | F11: 3 | G11: 1 | H11: 1 | J11: =Prix!F11 -> 4200 | K11: =Prix!G11 -> 450 | L11: =Prix!C11-Prix!D11 -> 5350 | M11: =Prix!D11-Prix!E11 -> 32010 | N11: =Prix!H11 -> 790 | O11: =Prix!I11 -> 1760 | P11: 5880 | Q11: 3610 | S11: =Prix!J11 -> 5500
A13: Tiny MAG | B13: 49 | C13: 22 | D13: =C13+B13 -> 71 | E13: =Prix!C18 -> 90710 | F13: 1 | G13: 0 | H13: 1 | J13: =Prix!F18 -> 2990 | K13: =Prix!G18 -> 1270 | L13: X | M13: X | N13: X | O13: =Prix!I18 -> 1590 | P13: 3300 | Q13: 1140 | S13: =Prix!J18 -> 5000
A14: 3 chambres étage
A15: Urbanéa | B15: 83 | C15: 15 | D15: =C15+B15 -> 98 | E15: =Prix!E20 -> 83960 | F15: 3 | G15: 1 | H15: 1 | J15: =Prix!F20 -> 2750 | K15: =Prix!G20 -> 720 | L15: =Prix!C20-Prix!D20 -> 125380 | M15: =Prix!D20-Prix!E20 -> -83960 | N15: =Prix!H20 -> X | O15: =Prix!I20 -> 2310 | P15: 3200 | Q15: 4020 | S15: =Prix!J20 -> 4900
A16: Nova | B16: 85 | C16: X | D16: =B16 -> 85 | E16: =Prix!E21 -> 0 | F16: 3 | G16: 1 | H16: 0 | J16: =Prix!F21 -> 2420 | K16: =Prix!G21 -> 720 | L16: =Prix!C21-Prix!D21 -> 114520 | M16: =Prix!D21-Prix!E21 -> 0 | N16: X | O16: =Prix!I21 -> 1520 | P16: 4330 | Q16: 3710 | S16: =Prix!J21 -> 0
A17: Linéa | B17: 90 | C17: X | D17: =B17 -> 90 | E17: =Prix!E22 -> 0 | F17: 3 | G17: 1 | H17: 0 | J17: =Prix!F22 -> 2500 | K17: =Prix!G22 -> 720 | L17: =Prix!C22-Prix!D22 -> 119610 | M17: =Prix!D22-Prix!E22 -> 0 | N17: X | O17: =Prix!I22 -> 1520 | P17: 4640 | Q17: 3920 | S17: =Prix!J22 -> 0
A18: 4 chambres
A19: Kozi | B19: 99 | C19: X | D19: =B19 -> 99 | E19: =Prix!E24 -> 86250 | F19: 4 | G19: 1 | H19: 0 | J19: =Prix!F24 -> 3630 | K19: =Prix!G24 -> 490 | L19: =Prix!C24-Prix!D24 -> 2500 | M19: =Prix!D24-Prix!E24 -> 33300 | N19: X | O19: =Prix!I24 -> 1850 | P19: 5160 | Q19: 4330 | S19: =Prix!J24 -> 5300
A20: Viva | B20: 103 | C20: 17 | D20: =C20+B20 -> 120 | E20: =Prix!E25 -> 92240 | F20: 4 | G20: 1 | H20: 1 | J20: =Prix!F25 -> 3950 | K20: =Prix!G25 -> 470 | L20: =Prix!C25-Prix!D25 -> 3240 | M20: =Prix!D25-Prix!E25 -> 44490 | N20: =Prix!H25 -> 0 | O20: =Prix!I25 -> 2430 | P20: 5060 | Q20: 4440 | S20: =Prix!J25 -> 5550
A21: GAMME LOCATIF+
A22: 3 chambres PMR
A23: Invest | B23: 77 | C23: 22 | D23: =C23+B23 -> 99 | E23: =Prix!E13 -> 85330 | F23: 3 | H23: 1 | J23: =Prix!F13 -> 3630 | K23: =Prix!G13 -> 380 | L23: =Prix!C13-Prix!D13 -> 2910 | M23: =Prix!D13-Prix!E13 -> 30670 | N23: =Prix!H13 -> 940 | O23: =Prix!I13 -> 1760 | P23: 4020 | Q23: 3300 | S23: =Prix!J13 -> 5100
A24: Lodji | B24: 96 | C24: 19 | D24: =C24+B24 -> 115 | E24: =Prix!E14 -> 95620 | F24: 3 | G24: 1 | H24: 1 | J24: =Prix!F14 -> 4040 | K24: =Prix!G14 -> 370 | L24: =Prix!C14-Prix!D14 -> 3010 | M24: =Prix!D14-Prix!E14 -> 32780 | N24: =Prix!H14 -> 830 | O24: =Prix!I14 -> 1770 | P24: 5470 | Q24: 3300 | S24: =Prix!J14 -> 5330
A25: Modulo | B25: 96 | C25: X | D25: =B25 -> 96 | E25: =Prix!E15 -> 86350 | F25: 3 | G25: 1 | H25: 0 | J25: =Prix!F15 -> 3550 | K25: =Prix!G15 -> 490 | L25: =Prix!C15-Prix!D15 -> 4030 | M25: =Prix!D15-Prix!E15 -> 30160 | N25: X | O25: =Prix!I15 -> 1770 | P25: 5470 | Q25: 3300 | S25: =Prix!J15 -> 5050
A26: Cocoon | B26: 102 | C26: 18 | D26: =C26+B26 -> 120 | E26: =Prix!E16 -> 98670 | F26: 3 | G26: 1 | H26: 1 | J26: =Prix!F16 -> 4280 | K26: =Prix!G16 -> 370 | L26: =Prix!C16-Prix!D16 -> 3170 | M26: =Prix!D16-Prix!E16 -> 38250 | N26: =Prix!H16 -> 790 | O26: =Prix!I16 -> 1770 | P26: 5980 | Q26: 3610 | S26: =Prix!J16 -> 5400

Sheet Tableau partenaires
A1: GAMME ACCESS
A2: Noms | B2: Surf. Habit. En m2 | C2: Surf Annexes En m2 | D2: Surf. Utile En m2 | E2: Prix HE/HA | F2: Prix aménagé | G2: 🛏️ | H2: 🛒 | I2: 🚗 | K2: PV Zones Argiles | L2: PV Zones sismique 3 | M2: PV Altitude <400 m | N2: Second œuvre | O2: Plafonds garage | P2: Pack carrelage/ faience sdb Wc | Q2: Pack Carrelage, zone jour | R2: Pack Carrelage zone nuit | S2: Cuisine en direct | T2: VRD (10ml) en direct
A3: 2 chambres
A4: Epure | B4: 71 | C4: 16 | D4: =C4+B4 -> 87 | E4: =Prix!E4 -> 80080 | F4: =E4+N4 -> 107540 | G4: 2 | H4: 1 | I4: 1 | K4: =Prix!F4 -> 3550 | L4: =Prix!G4 -> 450 | M4: =Prix!C4-Prix!D4 -> 2460 | N4: =Prix!D4-Prix!E4 -> 27460 | O4: =Prix!H4 -> 690 | P4: =Prix!I4 -> 1440 | Q4: 4330 | R4: 2270 | T4: =Prix!J4 -> 5000
A5: Zénéa | B5: 69 | C5: X | D5: =B5 -> 69 | E5: =Prix!E5 -> 82210 | F5: =E5+N5 -> 108930 | G5: 2 | H5: 1 | I5: 0 | K5: =Prix!F5 -> 3470 | L5: =Prix!G5 -> 490 | M5: =Prix!C5-Prix!D5 -> 3270 | N5: =Prix!D5-Prix!E5 -> 26720 | O5: X | P5: =Prix!I5 -> 1640 | Q5: 4120 | R5: 2370 | T5: =Prix!J5 -> 5200
A6: First | B6: 73 | C6: X | D6: =B6 -> 73 | E6: =Prix!E6 -> 72480 | F6: =E6+N6 -> 98780 | G6: 2 | H6: 1 | I6: 0 | K6: =Prix!F6 -> 3070 | L6: =Prix!G6 -> 490 | M6: =Prix!C6-Prix!D6 -> 2280 | N6: =Prix!D6-Prix!E6 -> 26300 | O6: X | P6: =Prix!I6 -> 1350 | Q6: 4740 | R6: 2270 | T6: =Prix!J6 -> 4950
A7: 3 chambres
A8: Minismart | B8: 85 | C8: X | D8: =B8 -> 85 | E8: =Prix!E8 -> 78270 | F8: =E8+N8 -> 106990 | G8: 3 | H8: 1 | I8: 0 | K8: =Prix!F8 -> 3310 | L8: =Prix!G8 -> 490 | M8: =Prix!C8-Prix!D8 -> 2900 | N8: =Prix!D8-Prix!E8 -> 28720 | O8: X | P8: =Prix!I8 -> 1640 | Q8: 4750 | R8: 3510 | T8: =Prix!J8 -> 5000
A9: Essentiel | B9: 85 | C9: 22 | D9: =C9+B9 -> 107 | E9: =Prix!E9 -> 89400 | F9: =E9+N9 -> 120710 | G9: 3 | H9: 0 | I9: 1 | K9: =Prix!F9 -> 3880 | L9: =Prix!G9 -> 380 | M9: =Prix!C9-Prix!D9 -> 3100 | N9: =Prix!D9-Prix!E9 -> 31310 | O9: =Prix!H9 -> 940 | P9: =Prix!I9 -> 1850 | Q9: 4750 | R9: 3200 | T9: =Prix!J9 -> 5060
A10: Prima | B10: 84 | C10: 17 | D10: =C10+B10 -> 101 | E10: =Prix!E10 -> 93320 | F10: =E10+N10 -> 126110 | G10: 3 | H10: 1 | I10: 1 | K10: =Prix!F10 -> 3950 | L10: =Prix!G10 -> 490 | M10: =Prix!C10-Prix!D10 -> 3510 | N10: =Prix!D10-Prix!E10 -> 32790 | O10: =Prix!H10 -> 730 | P10: =Prix!I10 -> 1530 | Q10: 4950 | R10: 3300 | T10: =Prix!J10 -> 5230
A11: Myhome | B11: 99 | C11: 18 | D11: =C11+B11 -> 117 | E11: =Prix!E11 -> 101870 | F11: =E11+N11 -> 133880 | G11: 3 | H11: 1 | I11: 1 | K11: =Prix!F11 -> 4200 | L11: =Prix!G11 -> 450 | M11: =Prix!C11-Prix!D11 -> 5350 | N11: =Prix!D11-Prix!E11 -> 32010 | O11: =Prix!H11 -> 790 | P11: =Prix!I11 -> 1760 | Q11: 5880 | R11: 3610 | T11: =Prix!J11 -> 5500
A13: Tiny MAG | B13: 49 | C13: 22 | D13: =C13+B13 -> 71 | E13: =Prix!C18 -> 90710 | F13: =Prix!D18 -> X | G13: 1 | H13: 0 | I13: 1 | K13: =Prix!F18 -> 2990 | L13: =Prix!G18 -> 1270 | M13: X | N13: X | O13: X | P13: =Prix!I18 -> 1590 | Q13: 3300 | R13: 1140 | T13: =Prix!J18 -> 5000
A14: 3 chambres étage
A15: Urbanéa | B15: 83 | C15: 15 | D15: =C15+B15 -> 98 | E15: =Prix!E20 -> 83960 | F15: =E15+N15 -> 0 | G15: 3 | H15: 1 | I15: 1 | K15: =Prix!F20 -> 2750 | L15: =Prix!G20 -> 720 | M15: =Prix!C20-Prix!D20 -> 125380 | N15: =Prix!D20-Prix!E20 -> -83960 | O15: =Prix!H20 -> X | P15: =Prix!I20 -> 2310 | Q15: 3200 | R15: 4020 | T15: =Prix!J20 -> 4900
A16: Nova | B16: 85 | C16: X | D16: =B16 -> 85 | E16: =Prix!E21 -> 0 | F16: =E16+N16 -> 0 | G16: 3 | H16: 1 | I16: 0 | K16: =Prix!F21 -> 2420 | L16: =Prix!G21 -> 720 | M16: =Prix!C21-Prix!D21 -> 114520 | N16: =Prix!D21-Prix!E21 -> 0 | O16: X | P16: =Prix!I21 -> 1520 | Q16: 4330 | R16: 3710 | T16: =Prix!J21 -> 0
A17: Linéa | B17: 90 | C17: X | D17: =B17 -> 90 | E17: =Prix!E22 -> 0 | F17: =E17+N17 -> 0 | G17: 3 | H17: 1 | I17: 0 | K17: =Prix!F22 -> 2500 | L17: =Prix!G22 -> 720 | M17: =Prix!C22-Prix!D22 -> 119610 | N17: =Prix!D22-Prix!E22 -> 0 | O17: X | P17: =Prix!I22 -> 1520 | Q17: 4640 | R17: 3920 | T17: =Prix!J22 -> 0
A18: 4 chambres
A19: Kozi | B19: 99 | C19: X | D19: =B19 -> 99 | E19: =Prix!E24 -> 86250 | F19: =E19+N19 -> 119550 | G19: 4 | H19: 1 | I19: 0 | K19: =Prix!F24 -> 3630 | L19: =Prix!G24 -> 490 | M19: =Prix!C24-Prix!D24 -> 2500 | N19: =Prix!D24-Prix!E24 -> 33300 | O19: X | P19: =Prix!I24 -> 1850 | Q19: 5160 | R19: 4330 | T19: =Prix!J24 -> 5300
A20: Viva | B20: 103 | C20: 17 | D20: =C20+B20 -> 120 | E20: =Prix!E25 -> 92240 | F20: =E20+N20 -> 136730 | G20: 4 | H20: 1 | I20: 1 | K20: =Prix!F25 -> 3950 | L20: =Prix!G25 -> 470 | M20: =Prix!C25-Prix!D25 -> 3240 | N20: =Prix!D25-Prix!E25 -> 44490 | O20: =Prix!H25 -> 0 | P20: =Prix!I25 -> 2430 | Q20: 5060 | R20: 4440 | T20: =Prix!J25 -> 5550
A21: "Prix aménagé" comprends le placo, l'électricité, la plomberie (juste alimentations),receveur douche et BEC, isolation, chauffage par PAC air/air par split dans le séjour, chape liquide, facade crépis.
A22: GAMME LOCATIF+
A23: 3 chambres PMR
A24: Invest | B24: 77 | C24: 22 | D24: =C24+B24 -> 99 | E24: =Prix!E13 -> 85330 | F24: =E24+N24 -> 116000 | G24: 3 | I24: 1 | K24: =Prix!F13 -> 3630 | L24: =Prix!G13 -> 380 | M24: =Prix!C13-Prix!D13 -> 2910 | N24: =Prix!D13-Prix!E13 -> 30670 | O24: =Prix!H13 -> 940 | P24: =Prix!I13 -> 1760 | Q24: 4020 | R24: 3300 | T24: =Prix!J13 -> 5100
A25: Lodji | B25: 96 | C25: 19 | D25: =C25+B25 -> 115 | E25: =Prix!E14 -> 95620 | F25: =E25+N25 -> 128400 | G25: 3 | H25: 1 | I25: 1 | K25: =Prix!F14 -> 4040 | L25: =Prix!G14 -> 370 | M25: =Prix!C14-Prix!D14 -> 3010 | N25: =Prix!D14-Prix!E14 -> 32780 | O25: =Prix!H14 -> 830 | P25: =Prix!I14 -> 1770 | Q25: 5470 | R25: 3300 | T25: =Prix!J14 -> 5330
A26: Modulo | B26: 96 | C26: X | D26: =B26 -> 96 | E26: =Prix!E15 -> 86350 | F26: =E26+N26 -> 116510 | G26: 3 | H26: 1 | I26: 0 | K26: =Prix!F15 -> 3550 | L26: =Prix!G15 -> 490 | M26: =Prix!C15-Prix!D15 -> 4030 | N26: =Prix!D15-Prix!E15 -> 30160 | O26: X | P26: =Prix!I15 -> 1770 | Q26: 5470 | R26: 3300 | T26: =Prix!J15 -> 5050
A27: Cocoon | B27: 102 | C27: 18 | D27: =C27+B27 -> 120 | E27: =Prix!E16 -> 98670 | F27: =E27+N27 -> 136920 | G27: 3 | H27: 1 | I27: 1 | K27: =Prix!F16 -> 4280 | L27: =Prix!G16 -> 370 | M27: =Prix!C16-Prix!D16 -> 3170 | N27: =Prix!D16-Prix!E16 -> 38250 | O27: =Prix!H16 -> 790 | P27: =Prix!I16 -> 1770 | Q27: 5980 | R27: 3610 | T27: =Prix!J16 -> 5400
